BEGIN:VCALENDAR
VERSION:2.0
PRODID:-//Neighbor Ride | Volunteers Drive, Seniors Thrive - ECPv6.15.20//NONSGML v1.0//EN
CALSCALE:GREGORIAN
METHOD:PUBLISH
X-WR-CALNAME:Neighbor Ride | Volunteers Drive, Seniors Thrive
X-ORIGINAL-URL:https://neighborride.org
X-WR-CALDESC:Events for Neighbor Ride | Volunteers Drive, Seniors Thrive
REFRESH-INTERVAL;VALUE=DURATION:PT1H
X-Robots-Tag:noindex
X-PUBLISHED-TTL:PT1H
BEGIN:VTIMEZONE
TZID:UTC
BEGIN:STANDARD
TZOFFSETFROM:+0000
TZOFFSETTO:+0000
TZNAME:UTC
DTSTART:20250101T000000
END:STANDARD
END:VTIMEZONE
BEGIN:VEVENT
DTSTART;TZID=UTC:20260502T190000
DTEND;TZID=UTC:20260502T210000
DTSTAMP:20260421T152322
CREATED:20260320T004733Z
LAST-MODIFIED:20260409T135737Z
UID:1616-1777748400-1777755600@neighborride.org
SUMMARY:Bingo
DESCRIPTION:About This Event\nWe look forward to welcoming you to our 12th annual Basket BINGO!\nGet ready for a fun-filled evening with 20+ prize baskets and a variety of raffles.\nTino’s Italian Bistro will be onsite with delicious dinner options for sale.\nCash Only– visit your ATM before you come!\n			\n				Purchase Tickets\n			\n				\n				\n				\n				\n				THANK YOU TO OUR GENEROUS SPONSORS:\n			\n				\n				\n				\n				\n				Presenting Sponsors:\n			\n			\n				\n				\n				\n				\n			\n				\n				\n				\n				\n				\n				\n				\n				\n				\n				\n				\n			\n			\n				\n				\n				\n				\n				\n				\n				\n				\n				\n				\n			\n			\n				\n				\n				\n				\n			\n				\n				\n				\n				\n				\n				\n				\n				\n				\n				\n				Event Sponsors:
URL:https://neighborride.org/event/bingo/
LOCATION:Fraternal Order of Police Lodge 69\, 2832 Nine Mile Circle\, Catonsville\, MD\, 21228
CATEGORIES:Community
ATTACH;FMTTYPE=image/png:https://neighborride.org/wp-content/uploads/2026/03/2026-Bingo-Website-Header.png
END:VEVENT
BEGIN:VEVENT
DTSTART;TZID=UTC:20260507T130000
DTEND;TZID=UTC:20260507T140000
DTSTAMP:20260421T152322
CREATED:20260115T222217Z
LAST-MODIFIED:20260115T222217Z
UID:1507-1778158800-1778162400@neighborride.org
SUMMARY:Volunteer Orientation
DESCRIPTION:Join us for orientation and learn more about one of the most flexible and rewarding volunteer opportunities in town. By providing just a couple of rides a month for medical appointments\, shopping\, social outings\, faith services\, and more\, our volunteers help local seniors remain healthy and actively engaged in the life of our community. Volunteers can choose trips convenient to their schedule\, home\, or office.\n\nIf you’re interested in attending\, email volunteer@neighborride.org or call (410) 884-7433. Can’t make it to this session? Give us a call and we’ll schedule a day/time that works for you.
URL:https://neighborride.org/event/volunteer-orientation-89/
LOCATION:Neighbor Ride Office\, 5570 Sterrett Place #102 Columbia\, 21044\, Sterrett\, MD\, 21044\, United States
CATEGORIES:Civic Engagement,Community,Volunteer Orientation
END:VEVENT
BEGIN:VEVENT
DTSTART;TZID=UTC:20260514T130000
DTEND;TZID=UTC:20260514T140000
DTSTAMP:20260421T152322
CREATED:20260115T222234Z
LAST-MODIFIED:20260115T222234Z
UID:1508-1778763600-1778767200@neighborride.org
SUMMARY:Volunteer Orientation
DESCRIPTION:Join us for orientation and learn more about one of the most flexible and rewarding volunteer opportunities in town. By providing just a couple of rides a month for medical appointments\, shopping\, social outings\, faith services\, and more\, our volunteers help local seniors remain healthy and actively engaged in the life of our community. Volunteers can choose trips convenient to their schedule\, home\, or office.\n\nIf you’re interested in attending\, email volunteer@neighborride.org or call (410) 884-7433. Can’t make it to this session? Give us a call and we’ll schedule a day/time that works for you.
URL:https://neighborride.org/event/volunteer-orientation-90/
LOCATION:Neighbor Ride Office\, 5570 Sterrett Place #102 Columbia\, 21044\, Sterrett\, MD\, 21044\, United States
CATEGORIES:Civic Engagement,Community,Volunteer Orientation
END:VEVENT
BEGIN:VEVENT
DTSTART;TZID=UTC:20260521T130000
DTEND;TZID=UTC:20260521T140000
DTSTAMP:20260421T152322
CREATED:20260115T222250Z
LAST-MODIFIED:20260115T222250Z
UID:1509-1779368400-1779372000@neighborride.org
SUMMARY:Volunteer Orientation
DESCRIPTION:Join us for orientation and learn more about one of the most flexible and rewarding volunteer opportunities in town. By providing just a couple of rides a month for medical appointments\, shopping\, social outings\, faith services\, and more\, our volunteers help local seniors remain healthy and actively engaged in the life of our community. Volunteers can choose trips convenient to their schedule\, home\, or office.\n\nIf you’re interested in attending\, email volunteer@neighborride.org or call (410) 884-7433. Can’t make it to this session? Give us a call and we’ll schedule a day/time that works for you.
URL:https://neighborride.org/event/volunteer-orientation-91/
LOCATION:Neighbor Ride Office\, 5570 Sterrett Place #102 Columbia\, 21044\, Sterrett\, MD\, 21044\, United States
CATEGORIES:Civic Engagement,Community,Volunteer Orientation
END:VEVENT
BEGIN:VEVENT
DTSTART;TZID=UTC:20260528T130000
DTEND;TZID=UTC:20260528T140000
DTSTAMP:20260421T152322
CREATED:20260115T222307Z
LAST-MODIFIED:20260115T222307Z
UID:1510-1779973200-1779976800@neighborride.org
SUMMARY:Volunteer Orientation
DESCRIPTION:Join us for orientation and learn more about one of the most flexible and rewarding volunteer opportunities in town. By providing just a couple of rides a month for medical appointments\, shopping\, social outings\, faith services\, and more\, our volunteers help local seniors remain healthy and actively engaged in the life of our community. Volunteers can choose trips convenient to their schedule\, home\, or office.\n\nIf you’re interested in attending\, email volunteer@neighborride.org or call (410) 884-7433. Can’t make it to this session? Give us a call and we’ll schedule a day/time that works for you.
URL:https://neighborride.org/event/volunteer-orientation-92/
LOCATION:Neighbor Ride Office\, 5570 Sterrett Place #102 Columbia\, 21044\, Sterrett\, MD\, 21044\, United States
CATEGORIES:Civic Engagement,Community,Volunteer Orientation
END:VEVENT
END:VCALENDAR