BEGIN:VCALENDAR
VERSION:2.0
PRODID:-//Neighbor Ride | Volunteers Drive, Seniors Thrive - ECPv6.15.20//NONSGML v1.0//EN
CALSCALE:GREGORIAN
METHOD:PUBLISH
X-WR-CALNAME:Neighbor Ride | Volunteers Drive, Seniors Thrive
X-ORIGINAL-URL:https://neighborride.org
X-WR-CALDESC:Events for Neighbor Ride | Volunteers Drive, Seniors Thrive
REFRESH-INTERVAL;VALUE=DURATION:PT1H
X-Robots-Tag:noindex
X-PUBLISHED-TTL:PT1H
BEGIN:VTIMEZONE
TZID:America/New_York
BEGIN:DAYLIGHT
TZOFFSETFROM:-0500
TZOFFSETTO:-0400
TZNAME:EDT
DTSTART:20240310T070000
END:DAYLIGHT
BEGIN:STANDARD
TZOFFSETFROM:-0400
TZOFFSETTO:-0500
TZNAME:EST
DTSTART:20241103T060000
END:STANDARD
BEGIN:DAYLIGHT
TZOFFSETFROM:-0500
TZOFFSETTO:-0400
TZNAME:EDT
DTSTART:20250309T070000
END:DAYLIGHT
BEGIN:STANDARD
TZOFFSETFROM:-0400
TZOFFSETTO:-0500
TZNAME:EST
DTSTART:20251102T060000
END:STANDARD
BEGIN:DAYLIGHT
TZOFFSETFROM:-0500
TZOFFSETTO:-0400
TZNAME:EDT
DTSTART:20260308T070000
END:DAYLIGHT
BEGIN:STANDARD
TZOFFSETFROM:-0400
TZOFFSETTO:-0500
TZNAME:EST
DTSTART:20261101T060000
END:STANDARD
END:VTIMEZONE
BEGIN:VEVENT
DTSTART;TZID=America/New_York:20251202T080000
DTEND;TZID=America/New_York:20251202T170000
DTSTAMP:20260421T190359
CREATED:20251018T132028Z
LAST-MODIFIED:20251018T132028Z
UID:1417-1764662400-1764694800@neighborride.org
SUMMARY:Giving Tuesday
DESCRIPTION:
URL:https://neighborride.org/event/giving-tuesday/
LOCATION:MD
CATEGORIES:Volunteer Orientation
END:VEVENT
END:VCALENDAR