BEGIN:VCALENDAR
VERSION:2.0
PRODID:-//Neighbor Ride | Volunteers Drive, Seniors Thrive - ECPv6.15.20//NONSGML v1.0//EN
CALSCALE:GREGORIAN
METHOD:PUBLISH
X-ORIGINAL-URL:https://neighborride.org
X-WR-CALDESC:Events for Neighbor Ride | Volunteers Drive, Seniors Thrive
REFRESH-INTERVAL;VALUE=DURATION:PT1H
X-Robots-Tag:noindex
X-PUBLISHED-TTL:PT1H
BEGIN:VTIMEZONE
TZID:UTC
BEGIN:STANDARD
TZOFFSETFROM:+0000
TZOFFSETTO:+0000
TZNAME:UTC
DTSTART:20230101T000000
END:STANDARD
END:VTIMEZONE
BEGIN:VTIMEZONE
TZID:America/Los_Angeles
BEGIN:DAYLIGHT
TZOFFSETFROM:-0800
TZOFFSETTO:-0700
TZNAME:PDT
DTSTART:20230312T100000
END:DAYLIGHT
BEGIN:STANDARD
TZOFFSETFROM:-0700
TZOFFSETTO:-0800
TZNAME:PST
DTSTART:20231105T090000
END:STANDARD
BEGIN:DAYLIGHT
TZOFFSETFROM:-0800
TZOFFSETTO:-0700
TZNAME:PDT
DTSTART:20240310T100000
END:DAYLIGHT
BEGIN:STANDARD
TZOFFSETFROM:-0700
TZOFFSETTO:-0800
TZNAME:PST
DTSTART:20241103T090000
END:STANDARD
BEGIN:DAYLIGHT
TZOFFSETFROM:-0800
TZOFFSETTO:-0700
TZNAME:PDT
DTSTART:20250309T100000
END:DAYLIGHT
BEGIN:STANDARD
TZOFFSETFROM:-0700
TZOFFSETTO:-0800
TZNAME:PST
DTSTART:20251102T090000
END:STANDARD
END:VTIMEZONE
BEGIN:VEVENT
DTSTART;TZID=UTC:20241001T120000
DTEND;TZID=UTC:20241001T130000
DTSTAMP:20260419T110126
CREATED:20240926T125023Z
LAST-MODIFIED:20240926T125242Z
UID:912-1727784000-1727787600@neighborride.org
SUMMARY:Volunteer Orientation
DESCRIPTION:Join us for orientation and learn more about one of the most flexible and rewarding volunteer opportunities in town. By providing just a couple of rides a month for medical appointments\, shopping\, social outings\, faith services\, and more\, our volunteers help local seniors remain healthy and actively engaged in the life of our community. Volunteers can choose trips convenient to their schedule\, home\, or office. If you’re interested in attending\, email volunteer@neighborride.org or call (410) 884-7433. Can’t make it to this session? Give us a call and we’ll schedule a day/time that works for you.
URL:https://neighborride.org/event/volunteer-orientation-10-1-24/
LOCATION:Neighbor Ride Office\, 5570 Sterrett Place #102 Columbia\, 21044\, Sterrett\, MD\, 21044\, United States
CATEGORIES:Civic Engagement,Community,Volunteer Orientation
ATTACH;FMTTYPE=image/jpeg:https://neighborride.org/wp-content/uploads/2024/07/The-Rider-WInter-2022.jpg
END:VEVENT
BEGIN:VEVENT
DTSTART;TZID=UTC:20241003T110000
DTEND;TZID=UTC:20241003T120000
DTSTAMP:20260419T110126
CREATED:20240926T122435Z
LAST-MODIFIED:20240926T125547Z
UID:907-1727953200-1727956800@neighborride.org
SUMMARY:Volunteer Orientation
DESCRIPTION:Join us for orientation and learn more about one of the most flexible and rewarding volunteer opportunities in town. By providing just a couple of rides a month for medical appointments\, shopping\, social outings\, faith services\, and more\, our volunteers help local seniors remain healthy and actively engaged in the life of our community. Volunteers can choose trips convenient to their schedule\, home\, or office. If you’re interested in attending\, email volunteer@neighborride.org or call (410) 884-7433. Can’t make it to this session? Give us a call and we’ll schedule a day/time that works for you.
URL:https://neighborride.org/event/volunteer-orientation-10-3-24/
LOCATION:Neighbor Ride Office\, 5570 Sterrett Place #102 Columbia\, 21044\, Sterrett\, MD\, 21044\, United States
CATEGORIES:Civic Engagement,Community,Volunteer Orientation
ATTACH;FMTTYPE=image/jpeg:https://neighborride.org/wp-content/uploads/2024/07/Campbell.jpg
END:VEVENT
BEGIN:VEVENT
DTSTART;TZID=America/Los_Angeles:20241007T110000
DTEND;TZID=America/Los_Angeles:20241007T210000
DTSTAMP:20260419T110126
CREATED:20240912T215448Z
LAST-MODIFIED:20240919T131135Z
UID:863-1728298800-1728334800@neighborride.org
SUMMARY:Fundraiser at Walker's Tap & Table
DESCRIPTION:Stop by for lunch\, dinner\, or happy hour\, and 10% of sales will be donated to support Neighbor Ride. To participate\, you must show the flyer (print or mobile). For carry-out\, mention the fundraiser when ordering. Click on the image below to view the flyer. \n \n 
URL:https://neighborride.org/event/fundraiser-at-walkers-tap-table/
LOCATION:Walker’s Tap & Table\, 2465 MD-97\, Glenwood\, MD\, 21738\, United States
ATTACH;FMTTYPE=image/png:https://neighborride.org/wp-content/uploads/2024/09/Walkers-Event-Cover.png
END:VEVENT
BEGIN:VEVENT
DTSTART;TZID=UTC:20241010T130000
DTEND;TZID=UTC:20241010T140000
DTSTAMP:20260419T110126
CREATED:20240926T122545Z
LAST-MODIFIED:20240926T125532Z
UID:908-1728565200-1728568800@neighborride.org
SUMMARY:Volunteer Orientation
DESCRIPTION:Join us for orientation and learn more about one of the most flexible and rewarding volunteer opportunities in town. By providing just a couple of rides a month for medical appointments\, shopping\, social outings\, faith services\, and more\, our volunteers help local seniors remain healthy and actively engaged in the life of our community. Volunteers can choose trips convenient to their schedule\, home\, or office. If you’re interested in attending\, email volunteer@neighborride.org or call (410) 884-7433. Can’t make it to this session? Give us a call and we’ll schedule a day/time that works for you.
URL:https://neighborride.org/event/volunteer-orientation-10-10-24/
LOCATION:Neighbor Ride Office\, 5570 Sterrett Place #102 Columbia\, 21044\, Sterrett\, MD\, 21044\, United States
CATEGORIES:Civic Engagement,Community,Volunteer Orientation
ATTACH;FMTTYPE=image/jpeg:https://neighborride.org/wp-content/uploads/2024/07/The-Rider-Fall-2022.jpg
END:VEVENT
BEGIN:VEVENT
DTSTART;TZID=UTC:20241015T100000
DTEND;TZID=UTC:20241015T110000
DTSTAMP:20260419T110126
CREATED:20240819T172516Z
LAST-MODIFIED:20240903T211851Z
UID:773-1728986400-1728990000@neighborride.org
SUMMARY:Neighbor Walk
DESCRIPTION:Join Neighbor Ride staff\, volunteers\, and other neighbors for some laps around Lake Kittamaqundi as part of Walktober 2024 – a celebration of our State’s official exercise and a call to action to promote walking for improved health for residents of all ages and abilities. We’ll meet-up at the lakefront fountain. We’re looking forward to swapping and enjoying stories from the roads of Howard County as we walk and talk! Contact us at volunteer@neighborride.org / 410-884-7433 to let us know you can make it.
URL:https://neighborride.org/event/neighbor-walk/
LOCATION:Lake Kittamaqundi\, Columbia\, MD 21044\, MD\, 21044\, Colombia
CATEGORIES:Civic Engagement,Community
ATTACH;FMTTYPE=image/png:https://neighborride.org/wp-content/uploads/2024/08/Walktober-Event-Cover-lINKEDIN-1600-x-900-px.png
END:VEVENT
BEGIN:VEVENT
DTSTART;TZID=UTC:20241017T130000
DTEND;TZID=UTC:20241017T140000
DTSTAMP:20260419T110126
CREATED:20240926T122707Z
LAST-MODIFIED:20240926T125513Z
UID:909-1729170000-1729173600@neighborride.org
SUMMARY:Volunteer Orientation
DESCRIPTION:Join us for orientation and learn more about one of the most flexible and rewarding volunteer opportunities in town. By providing just a couple of rides a month for medical appointments\, shopping\, social outings\, faith services\, and more\, our volunteers help local seniors remain healthy and actively engaged in the life of our community. Volunteers can choose trips convenient to their schedule\, home\, or office. If you’re interested in attending\, email volunteer@neighborride.org or call (410) 884-7433. Can’t make it to this session? Give us a call and we’ll schedule a day/time that works for you.
URL:https://neighborride.org/event/volunteer-orientation-10-17-24/
LOCATION:Neighbor Ride Office\, 5570 Sterrett Place #102 Columbia\, 21044\, Sterrett\, MD\, 21044\, United States
CATEGORIES:Civic Engagement,Community,Volunteer Orientation
ATTACH;FMTTYPE=image/jpeg:https://neighborride.org/wp-content/uploads/2024/06/Passenger-Karen-Peek-and-Volunteer-Holly-Waddell.jpg
END:VEVENT
BEGIN:VEVENT
DTSTART;TZID=UTC:20241024T130000
DTEND;TZID=UTC:20241024T140000
DTSTAMP:20260419T110126
CREATED:20240926T122750Z
LAST-MODIFIED:20240926T125434Z
UID:910-1729774800-1729778400@neighborride.org
SUMMARY:Volunteer Orientation
DESCRIPTION:Join us for orientation and learn more about one of the most flexible and rewarding volunteer opportunities in town. By providing just a couple of rides a month for medical appointments\, shopping\, social outings\, faith services\, and more\, our volunteers help local seniors remain healthy and actively engaged in the life of our community. Volunteers can choose trips convenient to their schedule\, home\, or office. If you’re interested in attending\, email volunteer@neighborride.org or call (410) 884-7433. Can’t make it to this session? Give us a call and we’ll schedule a day/time that works for you.
URL:https://neighborride.org/event/volunteer-orientation-10-24-24/
LOCATION:Neighbor Ride Office\, 5570 Sterrett Place #102 Columbia\, 21044\, Sterrett\, MD\, 21044\, United States
CATEGORIES:Civic Engagement,Community,Volunteer Orientation
ATTACH;FMTTYPE=image/jpeg:https://neighborride.org/wp-content/uploads/2024/07/449574042_899246685578070_7910128108037009754_n.jpg
END:VEVENT
BEGIN:VEVENT
DTSTART;TZID=UTC:20241031T130000
DTEND;TZID=UTC:20241031T140000
DTSTAMP:20260419T110126
CREATED:20240926T122903Z
LAST-MODIFIED:20240926T125310Z
UID:911-1730379600-1730383200@neighborride.org
SUMMARY:Volunteer Orientation
DESCRIPTION:Join us for orientation and learn more about one of the most flexible and rewarding volunteer opportunities in town. By providing just a couple of rides a month for medical appointments\, shopping\, social outings\, faith services\, and more\, our volunteers help local seniors remain healthy and actively engaged in the life of our community. Volunteers can choose trips convenient to their schedule\, home\, or office. If you’re interested in attending\, email volunteer@neighborride.org or call (410) 884-7433. Can’t make it to this session? Give us a call and we’ll schedule a day/time that works for you.
URL:https://neighborride.org/event/volunteer-orientation-10-31-24/
LOCATION:Neighbor Ride Office\, 5570 Sterrett Place #102 Columbia\, 21044\, Sterrett\, MD\, 21044\, United States
CATEGORIES:Civic Engagement,Community,Volunteer Orientation
ATTACH;FMTTYPE=image/jpeg:https://neighborride.org/wp-content/uploads/2024/07/440753331_866389232197149_8962098813396641357_n.jpg
END:VEVENT
END:VCALENDAR