BEGIN:VCALENDAR
VERSION:2.0
PRODID:-//Neighbor Ride | Volunteers Drive, Seniors Thrive - ECPv6.15.20//NONSGML v1.0//EN
CALSCALE:GREGORIAN
METHOD:PUBLISH
X-ORIGINAL-URL:https://neighborride.org
X-WR-CALDESC:Events for Neighbor Ride | Volunteers Drive, Seniors Thrive
REFRESH-INTERVAL;VALUE=DURATION:PT1H
X-Robots-Tag:noindex
X-PUBLISHED-TTL:PT1H
BEGIN:VTIMEZONE
TZID:UTC
BEGIN:STANDARD
TZOFFSETFROM:+0000
TZOFFSETTO:+0000
TZNAME:UTC
DTSTART:20240101T000000
END:STANDARD
END:VTIMEZONE
BEGIN:VEVENT
DTSTART;TZID=UTC:20250501T130000
DTEND;TZID=UTC:20250501T140000
DTSTAMP:20260423T060729
CREATED:20250512T135648Z
LAST-MODIFIED:20250512T135648Z
UID:1251-1746104400-1746108000@neighborride.org
SUMMARY:Volunteer Orientation
DESCRIPTION:Join us for orientation and learn more about one of the most flexible and rewarding volunteer opportunities in town. By providing just a couple of rides a month for medical appointments\, shopping\, social outings\, faith services\, and more\, our volunteers help local seniors remain healthy and actively engaged in the life of our community. Volunteers can choose trips convenient to their schedule\, home\, or office.\n\nIf you’re interested in attending\, email volunteer@neighborride.org or call (410) 884-7433. Can’t make it to this session? Give us a call and we’ll schedule a day/time that works for you.
URL:https://neighborride.org/event/volunteer-orientation-41/
LOCATION:Neighbor Ride Office\, 5570 Sterrett Place #102 Columbia\, 21044\, Sterrett\, MD\, 21044\, United States
CATEGORIES:Civic Engagement,Community,Volunteer Orientation
END:VEVENT
BEGIN:VEVENT
DTSTART;TZID=UTC:20250508T130000
DTEND;TZID=UTC:20250508T140000
DTSTAMP:20260423T060729
CREATED:20250512T135615Z
LAST-MODIFIED:20250512T135615Z
UID:1250-1746709200-1746712800@neighborride.org
SUMMARY:Volunteer Orientation
DESCRIPTION:Join us for orientation and learn more about one of the most flexible and rewarding volunteer opportunities in town. By providing just a couple of rides a month for medical appointments\, shopping\, social outings\, faith services\, and more\, our volunteers help local seniors remain healthy and actively engaged in the life of our community. Volunteers can choose trips convenient to their schedule\, home\, or office.\n\nIf you’re interested in attending\, email volunteer@neighborride.org or call (410) 884-7433. Can’t make it to this session? Give us a call and we’ll schedule a day/time that works for you.
URL:https://neighborride.org/event/volunteer-orientation-40/
LOCATION:Neighbor Ride Office\, 5570 Sterrett Place #102 Columbia\, 21044\, Sterrett\, MD\, 21044\, United States
CATEGORIES:Civic Engagement,Community,Volunteer Orientation
END:VEVENT
BEGIN:VEVENT
DTSTART;TZID=UTC:20250515T130000
DTEND;TZID=UTC:20250515T140000
DTSTAMP:20260423T060729
CREATED:20250512T135253Z
LAST-MODIFIED:20250512T135253Z
UID:1247-1747314000-1747317600@neighborride.org
SUMMARY:Volunteer Orientation
DESCRIPTION:Join us for orientation and learn more about one of the most flexible and rewarding volunteer opportunities in town. By providing just a couple of rides a month for medical appointments\, shopping\, social outings\, faith services\, and more\, our volunteers help local seniors remain healthy and actively engaged in the life of our community. Volunteers can choose trips convenient to their schedule\, home\, or office.\n\nIf you’re interested in attending\, email volunteer@neighborride.org or call (410) 884-7433. Can’t make it to this session? Give us a call and we’ll schedule a day/time that works for you.
URL:https://neighborride.org/event/volunteer-orientation-35/
LOCATION:Neighbor Ride Office\, 5570 Sterrett Place #102 Columbia\, 21044\, Sterrett\, MD\, 21044\, United States
CATEGORIES:Civic Engagement,Community,Volunteer Orientation
END:VEVENT
BEGIN:VEVENT
DTSTART;TZID=UTC:20250522T130000
DTEND;TZID=UTC:20250522T140000
DTSTAMP:20260423T060729
CREATED:20250512T135322Z
LAST-MODIFIED:20250512T135322Z
UID:1246-1747918800-1747922400@neighborride.org
SUMMARY:Volunteer Orientation
DESCRIPTION:Join us for orientation and learn more about one of the most flexible and rewarding volunteer opportunities in town. By providing just a couple of rides a month for medical appointments\, shopping\, social outings\, faith services\, and more\, our volunteers help local seniors remain healthy and actively engaged in the life of our community. Volunteers can choose trips convenient to their schedule\, home\, or office.\n\nIf you’re interested in attending\, email volunteer@neighborride.org or call (410) 884-7433. Can’t make it to this session? Give us a call and we’ll schedule a day/time that works for you.
URL:https://neighborride.org/event/volunteer-orientation-36/
LOCATION:Neighbor Ride Office\, 5570 Sterrett Place #102 Columbia\, 21044\, Sterrett\, MD\, 21044\, United States
CATEGORIES:Civic Engagement,Community,Volunteer Orientation
END:VEVENT
BEGIN:VEVENT
DTSTART;TZID=UTC:20250529T130000
DTEND;TZID=UTC:20250529T140000
DTSTAMP:20260423T060729
CREATED:20250512T135343Z
LAST-MODIFIED:20250512T135343Z
UID:1245-1748523600-1748527200@neighborride.org
SUMMARY:Volunteer Orientation
DESCRIPTION:Join us for orientation and learn more about one of the most flexible and rewarding volunteer opportunities in town. By providing just a couple of rides a month for medical appointments\, shopping\, social outings\, faith services\, and more\, our volunteers help local seniors remain healthy and actively engaged in the life of our community. Volunteers can choose trips convenient to their schedule\, home\, or office.\n\nIf you’re interested in attending\, email volunteer@neighborride.org or call (410) 884-7433. Can’t make it to this session? Give us a call and we’ll schedule a day/time that works for you.
URL:https://neighborride.org/event/volunteer-orientation-37/
LOCATION:Neighbor Ride Office\, 5570 Sterrett Place #102 Columbia\, 21044\, Sterrett\, MD\, 21044\, United States
CATEGORIES:Civic Engagement,Community,Volunteer Orientation
END:VEVENT
END:VCALENDAR